BEGIN:VCALENDAR
VERSION:2.0
PRODID:-//hacksw/handcal//NONSGML v1.0//EN
BEGIN:VEVENT
SUMMARY:Marvejols I / Requista II
UID:b05a996d-d1d8-4401-997f-66ff62c39c07
DTSTART:20260425T220000Z
DTEND:20260426T220000Z
LOCATION:Localisation   
CATEGORIES:Sportif
STATUS:
URL;VALUE=URI:https://marvejols-sports.sportsregions.fr/evenements/2026/04/26/marvejols-i-requista-ii-2443179
END:VEVENT
END:VCALENDAR
