BEGIN:VCALENDAR
VERSION:2.0
PRODID:-//hacksw/handcal//NONSGML v1.0//EN
BEGIN:VEVENT
SUMMARY:Requista / U17 (MS-ESCM)
UID:4f08dd49-486a-4492-83d0-03e88e743b0a
DTSTART:20260424T220000Z
DTEND:20260425T220000Z
LOCATION:Localisation   
CATEGORIES:Sportif
STATUS:
URL;VALUE=URI:https://marvejols-sports.sportsregions.fr/evenements/2026/04/25/requista-u17-ms-escm-2443178
END:VEVENT
END:VCALENDAR
